Workbook

Sheet Week plan
A1: Weekly Meal Plan (Shraddha Bagale, Pune)
A2: Pick each meal from the drop-down.
A4: Day | B4: Breakfast | C4: Lunch | D4: Dinner | F4: Meals planned | G4: =COUNTA(B5:D11)
A5: Mon | B5: Poha | C5: Dal rice | D5: Chapati bhaji
A6: Tue | B6: Upma | C6: Chapati bhaji | D6: Paneer bhurji
A7: Wed | B7: Poha | C7: Dal rice | D7: Pithla bhakri
A8: Thu | B8: Upma | C8: Masale bhat | D8: Chapati bhaji
A9: Fri | B9: Poha | C9: Dal rice | D9: Paneer bhurji
A10: Sat | B10: Upma | C10: Pithla bhakri | D10: Masale bhat
A11: Sun | B11: Poha | C11: Chapati bhaji | D11: Dal rice

Sheet Recipes
A1: Recipes: ingredients for one family meal (4 people)
A2: Made-up quantities. Add a recipe by adding its ingredient rows.
A4: Recipe | B4: Ingredient | C4: Qty per meal | D4: Times this week | E4: Qty needed | G4: Recipe list
A5: Poha | B5: Poha (flattened rice) | C5: 0.3 | D5: =COUNTIF('Week plan'!$B$5:$D$11,A5) | E5: =C5*D5 | G5: Poha
A6: Poha | B6: Onions | C6: 0.2 | D6: =COUNTIF('Week plan'!$B$5:$D$11,A6) | E6: =C6*D6 | G6: Upma
A7: Poha | B7: Peanuts | C7: 0.1 | D7: =COUNTIF('Week plan'!$B$5:$D$11,A7) | E7: =C7*D7 | G7: Dal rice
A8: Upma | B8: Rava | C8: 0.3 | D8: =COUNTIF('Week plan'!$B$5:$D$11,A8) | E8: =C8*D8 | G8: Chapati bhaji
A9: Upma | B9: Onions | C9: 0.1 | D9: =COUNTIF('Week plan'!$B$5:$D$11,A9) | E9: =C9*D9 | G9: Paneer bhurji
A10: Dal rice | B10: Rice | C10: 0.5 | D10: =COUNTIF('Week plan'!$B$5:$D$11,A10) | E10: =C10*D10 | G10: Pithla bhakri
A11: Dal rice | B11: Toor dal | C11: 0.25 | D11: =COUNTIF('Week plan'!$B$5:$D$11,A11) | E11: =C11*D11 | G11: Masale bhat
A12: Dal rice | B12: Tomatoes | C12: 0.2 | D12: =COUNTIF('Week plan'!$B$5:$D$11,A12) | E12: =C12*D12
A13: Chapati bhaji | B13: Wheat atta | C13: 0.5 | D13: =COUNTIF('Week plan'!$B$5:$D$11,A13) | E13: =C13*D13
A14: Chapati bhaji | B14: Potatoes | C14: 0.5 | D14: =COUNTIF('Week plan'!$B$5:$D$11,A14) | E14: =C14*D14
A15: Chapati bhaji | B15: Onions | C15: 0.1 | D15: =COUNTIF('Week plan'!$B$5:$D$11,A15) | E15: =C15*D15
A16: Paneer bhurji | B16: Paneer | C16: 0.4 | D16: =COUNTIF('Week plan'!$B$5:$D$11,A16) | E16: =C16*D16
A17: Paneer bhurji | B17: Tomatoes | C17: 0.3 | D17: =COUNTIF('Week plan'!$B$5:$D$11,A17) | E17: =C17*D17
A18: Paneer bhurji | B18: Wheat atta | C18: 0.4 | D18: =COUNTIF('Week plan'!$B$5:$D$11,A18) | E18: =C18*D18
A19: Pithla bhakri | B19: Besan | C19: 0.25 | D19: =COUNTIF('Week plan'!$B$5:$D$11,A19) | E19: =C19*D19
A20: Pithla bhakri | B20: Jowar flour | C20: 0.5 | D20: =COUNTIF('Week plan'!$B$5:$D$11,A20) | E20: =C20*D20
A21: Pithla bhakri | B21: Onions | C21: 0.15 | D21: =COUNTIF('Week plan'!$B$5:$D$11,A21) | E21: =C21*D21
A22: Masale bhat | B22: Rice | C22: 0.5 | D22: =COUNTIF('Week plan'!$B$5:$D$11,A22) | E22: =C22*D22
A23: Masale bhat | B23: Potatoes | C23: 0.2 | D23: =COUNTIF('Week plan'!$B$5:$D$11,A23) | E23: =C23*D23
A24: Masale bhat | B24: Peanuts | C24: 0.1 | D24: =COUNTIF('Week plan'!$B$5:$D$11,A24) | E24: =C24*D24

Sheet Shopping list
A1: Shopping List for the Week (builds itself from the plan)
A2: Type what is already in the kitchen and the price; To buy and Cost update.
A4: Ingredient | B4: Unit | C4: Needed | D4: In kitchen | E4: To buy | F4: Price per unit (₹) | G4: Cost (₹) | H4: Buy no. | I4: Print list: only what to buy
A5: Poha (flattened rice) | B5: kg | C5: =SUMIF(Recipes!$B$5:$B$200,A5,Recipes!$E$5:$E$200) | D5: 0 | E5: =MAX(0,C5-D5) | F5: 60 | G5: =E5*F5 | H5: =IF(E5>0,COUNTIF(E$5:E5,">0"),"") | I5: =IFERROR(INDEX($A$5:$A$16,MATCH(ROWS(I$5:I5),$H$5:$H$16,0)),"")
A6: Rava | B6: kg | C6: =SUMIF(Recipes!$B$5:$B$200,A6,Recipes!$E$5:$E$200) | D6: 0.5 | E6: =MAX(0,C6-D6) | F6: 52 | G6: =E6*F6 | H6: =IF(E6>0,COUNTIF(E$5:E6,">0"),"") | I6: =IFERROR(INDEX($A$5:$A$16,MATCH(ROWS(I$5:I6),$H$5:$H$16,0)),"")
A7: Rice | B7: kg | C7: =SUMIF(Recipes!$B$5:$B$200,A7,Recipes!$E$5:$E$200) | D7: 1 | E7: =MAX(0,C7-D7) | F7: 62 | G7: =E7*F7 | H7: =IF(E7>0,COUNTIF(E$5:E7,">0"),"") | I7: =IFERROR(INDEX($A$5:$A$16,MATCH(ROWS(I$5:I7),$H$5:$H$16,0)),"")
A8: Toor dal | B8: kg | C8: =SUMIF(Recipes!$B$5:$B$200,A8,Recipes!$E$5:$E$200) | D8: 0.5 | E8: =MAX(0,C8-D8) | F8: 160 | G8: =E8*F8 | H8: =IF(E8>0,COUNTIF(E$5:E8,">0"),"") | I8: =IFERROR(INDEX($A$5:$A$16,MATCH(ROWS(I$5:I8),$H$5:$H$16,0)),"")
A9: Wheat atta | B9: kg | C9: =SUMIF(Recipes!$B$5:$B$200,A9,Recipes!$E$5:$E$200) | D9: 1 | E9: =MAX(0,C9-D9) | F9: 48 | G9: =E9*F9 | H9: =IF(E9>0,COUNTIF(E$5:E9,">0"),"") | I9: =IFERROR(INDEX($A$5:$A$16,MATCH(ROWS(I$5:I9),$H$5:$H$16,0)),"")
A10: Potatoes | B10: kg | C10: =SUMIF(Recipes!$B$5:$B$200,A10,Recipes!$E$5:$E$200) | D10: 0 | E10: =MAX(0,C10-D10) | F10: 28 | G10: =E10*F10 | H10: =IF(E10>0,COUNTIF(E$5:E10,">0"),"") | I10: =IFERROR(INDEX($A$5:$A$16,MATCH(ROWS(I$5:I10),$H$5:$H$16,0)),"")
A11: Onions | B11: kg | C11: =SUMIF(Recipes!$B$5:$B$200,A11,Recipes!$E$5:$E$200) | D11: 0.5 | E11: =MAX(0,C11-D11) | F11: 32 | G11: =E11*F11 | H11: =IF(E11>0,COUNTIF(E$5:E11,">0"),"") | I11: =IFERROR(INDEX($A$5:$A$16,MATCH(ROWS(I$5:I11),$H$5:$H$16,0)),"")
A12: Tomatoes | B12: kg | C12: =SUMIF(Recipes!$B$5:$B$200,A12,Recipes!$E$5:$E$200) | D12: 0 | E12: =MAX(0,C12-D12) | F12: 40 | G12: =E12*F12 | H12: =IF(E12>0,COUNTIF(E$5:E12,">0"),"") | I12: =IFERROR(INDEX($A$5:$A$16,MATCH(ROWS(I$5:I12),$H$5:$H$16,0)),"")
A13: Paneer | B13: kg | C13: =SUMIF(Recipes!$B$5:$B$200,A13,Recipes!$E$5:$E$200) | D13: 0 | E13: =MAX(0,C13-D13) | F13: 380 | G13: =E13*F13 | H13: =IF(E13>0,COUNTIF(E$5:E13,">0"),"") | I13: =IFERROR(INDEX($A$5:$A$16,MATCH(ROWS(I$5:I13),$H$5:$H$16,0)),"")
A14: Besan | B14: kg | C14: =SUMIF(Recipes!$B$5:$B$200,A14,Recipes!$E$5:$E$200) | D14: 0.5 | E14: =MAX(0,C14-D14) | F14: 90 | G14: =E14*F14 | H14: =IF(E14>0,COUNTIF(E$5:E14,">0"),"") | I14: =IFERROR(INDEX($A$5:$A$16,MATCH(ROWS(I$5:I14),$H$5:$H$16,0)),"")
A15: Jowar flour | B15: kg | C15: =SUMIF(Recipes!$B$5:$B$200,A15,Recipes!$E$5:$E$200) | D15: 0 | E15: =MAX(0,C15-D15) | F15: 55 | G15: =E15*F15 | H15: =IF(E15>0,COUNTIF(E$5:E15,">0"),"") | I15: =IFERROR(INDEX($A$5:$A$16,MATCH(ROWS(I$5:I15),$H$5:$H$16,0)),"")
A16: Peanuts | B16: kg | C16: =SUMIF(Recipes!$B$5:$B$200,A16,Recipes!$E$5:$E$200) | D16: 0.5 | E16: =MAX(0,C16-D16) | F16: 140 | G16: =E16*F16 | H16: =IF(E16>0,COUNTIF(E$5:E16,">0"),"") | I16: =IFERROR(INDEX($A$5:$A$16,MATCH(ROWS(I$5:I16),$H$5:$H$16,0)),"")
A17: Total | G17: =SUM(G5:G16)
A18: Items to buy | G18: =COUNTIF(E5:E16,">0")

Sheet Read me
A1: Weekly meal planner with automatic shopping list
A3: Made-up data: every name, amount, shop and date in this file is made up for practice. Replace it with your own.
A4: Yellow cells are inputs: type over them. Green cells hold formulas: do not type over them. Blue rows are headers and totals.
A5: From ravindrabagale.com, Excel course, Excel in Daily Life. By Ravindra Bagale.
A7: 1. Recipes: one row per ingredient of each recipe (quantity for one family meal). 2. Week plan: pick meals from the drop-downs. 3. Shopping list: type what is in the kitchen; To buy, Cost and the print list update.
A8: New ingredient? Add it to the Recipes sheet AND as a row on the Shopping list sheet.
